BEGIN:VCALENDAR
VERSION:2.0
PRODID:-//ChamberMaster//Event Calendar 2.0//EN
METHOD:PUBLISH
X-PUBLISHED-TTL:P3D
REFRESH-INTERVAL:P3D
CALSCALE:GREGORIAN
BEGIN:VEVENT
DTSTART;VALUE=DATE:20150916
DTEND;VALUE=DATE:20150917
TRANSP:TRANSPARENT
X-MICROSOFT-CDO-ALLDAYEVENT:TRUE
SUMMARY:Leadership Development Program
DESCRIPTION:In today's world\, business leaders are challenged to be more productive and proactive in their organizations and engaged in their communities.  In this course\, students will learn an understanding and improvement upon personal leadership skills\, understand the regional business climate\, and help envision and shape the future of our region.
X-ALT-DESC;FMTTYPE=text/html:In today&#39\;s world\, business leaders are challenged to be more productive and proactive in their organizations and engaged in their communities. &nbsp\;In this course\, students will learn an understanding and improvement upon personal leadership skills\, understand the regional business climate\, and help envision and shape the future of our region. &nbsp\;
LOCATION:Held at various locations throughout Middletown\, Monroe\, and Trenton
UID:e.2135.1020
SEQUENCE:3
DTSTAMP:20260425T205833Z
URL:http://business.thechamberofcommerce.org/events/details/leadership-development-program-09-16-2015-1020
END:VEVENT

END:VCALENDAR
